BEGIN:VCALENDAR
VERSION:2.0
PRODID:-//reiselust.pur - ECPv6.15.15//NONSGML v1.0//EN
CALSCALE:GREGORIAN
METHOD:PUBLISH
X-WR-CALNAME:reiselust.pur
X-ORIGINAL-URL:https://reiselustpur.com
X-WR-CALDESC:Veranstaltungen für reiselust.pur
REFRESH-INTERVAL;VALUE=DURATION:PT1H
X-Robots-Tag:noindex
X-PUBLISHED-TTL:PT1H
BEGIN:VTIMEZONE
TZID:Europe/Berlin
BEGIN:DAYLIGHT
TZOFFSETFROM:+0100
TZOFFSETTO:+0200
TZNAME:CEST
DTSTART:20250330T010000
END:DAYLIGHT
BEGIN:STANDARD
TZOFFSETFROM:+0200
TZOFFSETTO:+0100
TZNAME:CET
DTSTART:20251026T010000
END:STANDARD
BEGIN:DAYLIGHT
TZOFFSETFROM:+0100
TZOFFSETTO:+0200
TZNAME:CEST
DTSTART:20260329T010000
END:DAYLIGHT
BEGIN:STANDARD
TZOFFSETFROM:+0200
TZOFFSETTO:+0100
TZNAME:CET
DTSTART:20261025T010000
END:STANDARD
BEGIN:DAYLIGHT
TZOFFSETFROM:+0100
TZOFFSETTO:+0200
TZNAME:CEST
DTSTART:20270328T010000
END:DAYLIGHT
BEGIN:STANDARD
TZOFFSETFROM:+0200
TZOFFSETTO:+0100
TZNAME:CET
DTSTART:20271031T010000
END:STANDARD
END:VTIMEZONE
BEGIN:VEVENT
DTSTART;VALUE=DATE:20260218
DTEND;VALUE=DATE:20260219
DTSTAMP:20260425T221406
CREATED:20260203T145744Z
LAST-MODIFIED:20260205T111057Z
UID:259-1771372800-1771459199@reiselustpur.com
SUMMARY:TF07-2026 „WINTERLICHE“ BLAUFAHRT IM FEBRUAR – LASSEN SIE SICH WIE IMMER ÜBERRASCHEN
DESCRIPTION:Liebe Reisegäste\, es ist wieder so weit. Unsere beliebte Blaufahrt\, welche wir Ihnen l x im Quartal anbieten\, steht wieder auf dem Programm. Und auch diesmal können Sie sich wieder überraschen lassen in welche Gegend unserer schönen Heimat es heute geht. Auch diesmal haben wir für Sie wieder ein leckeres Mittagessen\, herrliche Landschaften und natürlich\, wie Sie es gewöhnt sind ein gemeinsames Kaffeetrinken im Programm. \nLeistungen \n\nBusfahrt\nMittagessen\nRundfahrt\nKaffeetrinken\nReisebegleitung\n\nKosten pro Person \n\n82\,00 Euro
URL:https://reiselustpur.com/event/tf07-2026-winterliche-blaufahrt-im-februar-lassen-sie-sich-wie-immer-ueberraschen/
CATEGORIES:Tagesfahrten
END:VEVENT
END:VCALENDAR