BEGIN:VCALENDAR
VERSION:2.0
PRODID:-//reiselust.pur - ECPv6.15.15//NONSGML v1.0//EN
CALSCALE:GREGORIAN
METHOD:PUBLISH
X-ORIGINAL-URL:https://reiselustpur.com
X-WR-CALDESC:Veranstaltungen für reiselust.pur
REFRESH-INTERVAL;VALUE=DURATION:PT1H
X-Robots-Tag:noindex
X-PUBLISHED-TTL:PT1H
BEGIN:VTIMEZONE
TZID:Europe/Berlin
BEGIN:DAYLIGHT
TZOFFSETFROM:+0100
TZOFFSETTO:+0200
TZNAME:CEST
DTSTART:20250330T010000
END:DAYLIGHT
BEGIN:STANDARD
TZOFFSETFROM:+0200
TZOFFSETTO:+0100
TZNAME:CET
DTSTART:20251026T010000
END:STANDARD
BEGIN:DAYLIGHT
TZOFFSETFROM:+0100
TZOFFSETTO:+0200
TZNAME:CEST
DTSTART:20260329T010000
END:DAYLIGHT
BEGIN:STANDARD
TZOFFSETFROM:+0200
TZOFFSETTO:+0100
TZNAME:CET
DTSTART:20261025T010000
END:STANDARD
BEGIN:DAYLIGHT
TZOFFSETFROM:+0100
TZOFFSETTO:+0200
TZNAME:CEST
DTSTART:20270328T010000
END:DAYLIGHT
BEGIN:STANDARD
TZOFFSETFROM:+0200
TZOFFSETTO:+0100
TZNAME:CET
DTSTART:20271031T010000
END:STANDARD
END:VTIMEZONE
BEGIN:VEVENT
DTSTART;VALUE=DATE:20260301
DTEND;VALUE=DATE:20260302
DTSTAMP:20260425T020800
CREATED:20260204T111619Z
LAST-MODIFIED:20260205T111340Z
UID:282-1772323200-1772409599@reiselustpur.com
SUMMARY:TF09-2026 BLINDED BY DELIGHT – DIE NEUE GRAND SHOW IM FRIEDRICHSTADTPALAST BERLIN (Begrenzte Kartenanzahl)
DESCRIPTION:Eine neue Grand Show hält Einzug im Friedrichstadtpalast Berlin. BLINDED by DELIGHT – die traumhafte Grand Show nimmt Sie mit auf eine bewegende Reise in die Welt der Träume und des Glücks. Erleben Sie blendende Show – Unterhaltung mit über 100 wundervollen Künstlerinnen und Künstlern auf der größten Theaterbühne der Welt. Einfach traumhaft schön! BLINDED by DELIGHT ist eine alle Sinne überwältigende Erinnerung ans Glücklichsein. Wer weiß\, vielleicht steht am Anfang jeder Veränderung doch ein Traum\, der festgehalten werden will und nicht verfliegt. Ein leidenschaftlicher Tanz der großen Gefühle. Wir werden etwas eher in Berlin ankommen\, so haben Sie die Möglichkeit individuell noch einen Kaffee zu trinken oder eine Kleinigkeit zu essen. Kommen Sie mit und verpassen Sie nicht dieses einmalige Show Event. \nLeistungen: \n\nBusfahrt\nEintrittskarte PK3\nReisebegleitung\n\nVeranstaltungsbeginn: \n\n15:30 Uhr\n\nKosten pro Person \n\n105\,00 Euro\n\nAchtung! Begrenzte Kartenanzahl!
URL:https://reiselustpur.com/event/tf09-2026-blinded-by-delight-die-neue-grand-show-im-friedrichstadtpalast-berlin/
CATEGORIES:Tagesfahrten
END:VEVENT
END:VCALENDAR