BEGIN:VCALENDAR
VERSION:2.0
PRODID:-//reiselust.pur - ECPv6.15.15//NONSGML v1.0//EN
CALSCALE:GREGORIAN
METHOD:PUBLISH
X-WR-CALNAME:reiselust.pur
X-ORIGINAL-URL:https://reiselustpur.com
X-WR-CALDESC:Veranstaltungen für reiselust.pur
REFRESH-INTERVAL;VALUE=DURATION:PT1H
X-Robots-Tag:noindex
X-PUBLISHED-TTL:PT1H
BEGIN:VTIMEZONE
TZID:Europe/Berlin
BEGIN:DAYLIGHT
TZOFFSETFROM:+0100
TZOFFSETTO:+0200
TZNAME:CEST
DTSTART:20250330T010000
END:DAYLIGHT
BEGIN:STANDARD
TZOFFSETFROM:+0200
TZOFFSETTO:+0100
TZNAME:CET
DTSTART:20251026T010000
END:STANDARD
BEGIN:DAYLIGHT
TZOFFSETFROM:+0100
TZOFFSETTO:+0200
TZNAME:CEST
DTSTART:20260329T010000
END:DAYLIGHT
BEGIN:STANDARD
TZOFFSETFROM:+0200
TZOFFSETTO:+0100
TZNAME:CET
DTSTART:20261025T010000
END:STANDARD
BEGIN:DAYLIGHT
TZOFFSETFROM:+0100
TZOFFSETTO:+0200
TZNAME:CEST
DTSTART:20270328T010000
END:DAYLIGHT
BEGIN:STANDARD
TZOFFSETFROM:+0200
TZOFFSETTO:+0100
TZNAME:CET
DTSTART:20271031T010000
END:STANDARD
END:VTIMEZONE
BEGIN:VEVENT
DTSTART;VALUE=DATE:20260304
DTEND;VALUE=DATE:20260305
DTSTAMP:20260424T212142
CREATED:20260204T111845Z
LAST-MODIFIED:20260205T111409Z
UID:284-1772582400-1772668799@reiselustpur.com
SUMMARY:TF10-2026 FRAUENTAGS FAHRT – RAMONA SCHNEIDER\, JETZT WIRD´S HEITER
DESCRIPTION:Verweilen und entspannen im Freizeittreff am Waldsee können Sie meine lieben Reisegäste alle zur Frauentags Fahrt nach Reudnitz in das Hotel Pelzer. Dem Anlass entsprechend wird Ihnen heute ein 3 Gang Menü serviert. Aus 3 Wahlgerichten zum Hauptgang können Sie wählen. Nach dem „Festtagsschmaus“ ist ein individueller Spaziergang am Waldsee möglich. Danach verzaubert uns die wunderbare Künstlerin Ramona Schneider mit Ihrem humorvollen und Stimmungsgeladenen Frauentags Programm. Da können sich alle Gäste echt darauf freuen. Anschließend noch das Frauentags Kaffeegedeck mit 2 Stück frisch gebackenen Kuchen und Schlagsahne. Alle Damen bekommen eine Rose und die Herren einen „Schlucki“. Viel Spaß und gute Unterhaltung. \nLeistungen: \n\nBusfahrt\nMittagessen als 3 Gang Menü\nBuntes Unterhaltungsprogramm\nKaffeetrinken\nReisebegleitung\n\nKosten pro Person \n\n94\,00 Euro
URL:https://reiselustpur.com/event/tf10-2026-frauentags-fahrt-ramona-schneider-jetzt-wirds-heiter/
CATEGORIES:Tagesfahrten
END:VEVENT
END:VCALENDAR