BEGIN:VCALENDAR
VERSION:2.0
PRODID:-//reiselust.pur - ECPv6.15.15//NONSGML v1.0//EN
CALSCALE:GREGORIAN
METHOD:PUBLISH
X-WR-CALNAME:reiselust.pur
X-ORIGINAL-URL:https://reiselustpur.com
X-WR-CALDESC:Veranstaltungen für reiselust.pur
REFRESH-INTERVAL;VALUE=DURATION:PT1H
X-Robots-Tag:noindex
X-PUBLISHED-TTL:PT1H
BEGIN:VTIMEZONE
TZID:Europe/Berlin
BEGIN:DAYLIGHT
TZOFFSETFROM:+0100
TZOFFSETTO:+0200
TZNAME:CEST
DTSTART:20250330T010000
END:DAYLIGHT
BEGIN:STANDARD
TZOFFSETFROM:+0200
TZOFFSETTO:+0100
TZNAME:CET
DTSTART:20251026T010000
END:STANDARD
BEGIN:DAYLIGHT
TZOFFSETFROM:+0100
TZOFFSETTO:+0200
TZNAME:CEST
DTSTART:20260329T010000
END:DAYLIGHT
BEGIN:STANDARD
TZOFFSETFROM:+0200
TZOFFSETTO:+0100
TZNAME:CET
DTSTART:20261025T010000
END:STANDARD
BEGIN:DAYLIGHT
TZOFFSETFROM:+0100
TZOFFSETTO:+0200
TZNAME:CEST
DTSTART:20270328T010000
END:DAYLIGHT
BEGIN:STANDARD
TZOFFSETFROM:+0200
TZOFFSETTO:+0100
TZNAME:CET
DTSTART:20271031T010000
END:STANDARD
END:VTIMEZONE
BEGIN:VEVENT
DTSTART;VALUE=DATE:20260306
DTEND;VALUE=DATE:20260307
DTSTAMP:20260424T174310
CREATED:20260204T112122Z
LAST-MODIFIED:20260205T111440Z
UID:286-1772755200-1772841599@reiselustpur.com
SUMMARY:TF11-2026 FRÜHLING IM PALAIS – DRESDEN BLÜHT
DESCRIPTION:Alle 2 Jahre und dann nur für eine Woche öffnet die Ausstellung „Dresdner Frühling im Palais“ ihre Tore. Ein üppiges Blütenmeer inmitten barocker Skulpturen. Dieses besondere Frühlingserwachen sollten Sie sich nicht entgehen lassen. Ehe wir eintauchen ins Blütenmeer\, werden wir so wie Sie es von uns gewöhnt sind noch lecker gemeinsam zu Mittag essen. Der Bus bringt uns dann direkt zum Großen Garten in Dresden. Dann ist es nur noch ein kleiner Spaziergang bis zum Palais. Hier erblühen über 30.000 farbenfrohe und duftende Frühlingsblüher\, Stauden sowie Ziergehölze in außergewöhnlichen Arrangements\, floristischen Gestecken und Blumenbeeten. Lassen Sie sich von dem berauschenden Anblick betören und schnuppern Sie Frühlingsluft im Palais im Großen Garten. Ein besonderes „Schmankerl“ wartet dann noch am Nachmittag auf Sie. Auf dem Neumarkt\, direkt neben der Frauenkirche in Dresden werden wir noch gemeinsam ein leckeres Kaffeegedeck genießen. \nLeistungen: \n\nBusfahrt\nMittagessen\nEintritt Ausstellung „Frühling im Palais“\nKaffeetrinken\nReisebegleitung\n\nKosten pro Person \n\n89\,00 Euro
URL:https://reiselustpur.com/event/tf11-2026-fruehling-im-palais-dresden-blueht/
CATEGORIES:Tagesfahrten
END:VEVENT
END:VCALENDAR