BEGIN:VCALENDAR
VERSION:2.0
PRODID:-//reiselust.pur - ECPv6.15.15//NONSGML v1.0//EN
CALSCALE:GREGORIAN
METHOD:PUBLISH
X-ORIGINAL-URL:https://reiselustpur.com
X-WR-CALDESC:Veranstaltungen für reiselust.pur
REFRESH-INTERVAL;VALUE=DURATION:PT1H
X-Robots-Tag:noindex
X-PUBLISHED-TTL:PT1H
BEGIN:VTIMEZONE
TZID:Europe/Berlin
BEGIN:DAYLIGHT
TZOFFSETFROM:+0100
TZOFFSETTO:+0200
TZNAME:CEST
DTSTART:20250330T010000
END:DAYLIGHT
BEGIN:STANDARD
TZOFFSETFROM:+0200
TZOFFSETTO:+0100
TZNAME:CET
DTSTART:20251026T010000
END:STANDARD
BEGIN:DAYLIGHT
TZOFFSETFROM:+0100
TZOFFSETTO:+0200
TZNAME:CEST
DTSTART:20260329T010000
END:DAYLIGHT
BEGIN:STANDARD
TZOFFSETFROM:+0200
TZOFFSETTO:+0100
TZNAME:CET
DTSTART:20261025T010000
END:STANDARD
BEGIN:DAYLIGHT
TZOFFSETFROM:+0100
TZOFFSETTO:+0200
TZNAME:CEST
DTSTART:20270328T010000
END:DAYLIGHT
BEGIN:STANDARD
TZOFFSETFROM:+0200
TZOFFSETTO:+0100
TZNAME:CET
DTSTART:20271031T010000
END:STANDARD
END:VTIMEZONE
BEGIN:VEVENT
DTSTART;VALUE=DATE:20260325
DTEND;VALUE=DATE:20260326
DTSTAMP:20260423T101107
CREATED:20260305T131540Z
LAST-MODIFIED:20260305T131621Z
UID:673-1774396800-1774483199@reiselustpur.com
SUMMARY:TF14-2026 Zusatzfahrt FRÜHLINGSLUFT UND FISCHGENUSS – UNSERE FAHRT IN DEN FRÜHLING
DESCRIPTION:5 Tage nach dem Frühlingsanfang wollen auch wir mit Ihnen so richtig in den Frühling starten. Im idyllischen Neudorf-Klösterlich bei Wittichenau schauen wir heute\, wie weit der Frühling es schon sprießen lässt. Leicht wie der Frühling soll heute auch unser Mittagessen sein. Aus diesem Grund haben wir uns für 3 leckere Fischgerichte aus den regionalen Teichen um Wittichenau entschieden. Unsere Gastgeber die wunderbare Gaststätte „Zur Grafschaft“ werden uns bestens kulinarisch verwöhnen. Für die nicht Fisch Esser haben wir ein alternatives Gericht zur Auswahl. Weiter geht es durch die schöne Landschaft Richtung Schwarzkollm. Auch rund um die Sagen umwogende Krabat – Mühle hat der Frühling bereits Einzug gehalten. Davon überzeugen wir uns vor Ort. In der Bauerstube wird noch ein für die Region typisches Kaffeegedeck gereicht. Lassen Sie sich überraschen… Kommen Sie mit auf unsere Fahrt in den Frühling. \nLeistungen: \n\nBusfahrt\nMittagessen (3 Fischgerichte und ein Alternativgericht)\nLandschaftstour\nKaffeetrinken\nReisebegleitung\n\nKosten pro Person \n\n87\,00 Euro
URL:https://reiselustpur.com/event/tf14-2026-zusatzfahrt-fruehlingsluft-und-fischgenuss-unsere-fahrt-in-den-fruehling/
CATEGORIES:Tagesfahrten
END:VEVENT
END:VCALENDAR