BEGIN:VCALENDAR
VERSION:2.0
PRODID:-//reiselust.pur - ECPv6.15.15//NONSGML v1.0//EN
CALSCALE:GREGORIAN
METHOD:PUBLISH
X-ORIGINAL-URL:https://reiselustpur.com
X-WR-CALDESC:Veranstaltungen für reiselust.pur
REFRESH-INTERVAL;VALUE=DURATION:PT1H
X-Robots-Tag:noindex
X-PUBLISHED-TTL:PT1H
BEGIN:VTIMEZONE
TZID:Europe/Berlin
BEGIN:DAYLIGHT
TZOFFSETFROM:+0100
TZOFFSETTO:+0200
TZNAME:CEST
DTSTART:20250330T010000
END:DAYLIGHT
BEGIN:STANDARD
TZOFFSETFROM:+0200
TZOFFSETTO:+0100
TZNAME:CET
DTSTART:20251026T010000
END:STANDARD
BEGIN:DAYLIGHT
TZOFFSETFROM:+0100
TZOFFSETTO:+0200
TZNAME:CEST
DTSTART:20260329T010000
END:DAYLIGHT
BEGIN:STANDARD
TZOFFSETFROM:+0200
TZOFFSETTO:+0100
TZNAME:CET
DTSTART:20261025T010000
END:STANDARD
BEGIN:DAYLIGHT
TZOFFSETFROM:+0100
TZOFFSETTO:+0200
TZNAME:CEST
DTSTART:20270328T010000
END:DAYLIGHT
BEGIN:STANDARD
TZOFFSETFROM:+0200
TZOFFSETTO:+0100
TZNAME:CET
DTSTART:20271031T010000
END:STANDARD
END:VTIMEZONE
BEGIN:VEVENT
DTSTART;VALUE=DATE:20260409
DTEND;VALUE=DATE:20260410
DTSTAMP:20260422T085446
CREATED:20260205T102846Z
LAST-MODIFIED:20260326T113504Z
UID:425-1775692800-1775779199@reiselustpur.com
SUMMARY:TF16-2026 Eine Erlebnis Gärtnerei und ein Besuch auf dem Butterberg
DESCRIPTION:Der Frühling steht in den Startlöchern und das wollen wir mit Ihnen gern gemeinsam genießen. Ein kurzweiliger Ausflug steht heute auf unserem Programm. Wir besuchen eine blühende Erlebnis Gärtnerei. Bevor es los geht\, werden wir aber noch sehr lecker gemeinsam zu Mittag essen. Danach geht es weiter.  Schon beim Ankommen empfängt uns ein Meer aus Farben und Düften. Üppig blühende Stauden\, Kräuter und saisonale Pflanzen\, liebevoll arrangiert in Beeten\, Gewächshäusern und Schaugärten. Breite\, gut begehbare Wege laden zu einem entspannten Rundgang ein. Bei einer Führung erleben wir Einblicke in einen Familienbetrieb\, der seit über 100 Jahren eine große Vielfalt an Zier- und Gemüsepflanzen für die Kunden produziert. Wir bekommen interessante Hintergrundinformationen und Einblicke in den gärtnerischen Alltag. Fragen dürfen gern gestellt werden\, diese werden vom fachkundigen Personal gern beantwortet. Natürlich dürfen Sie sich im Anschluss das ein oder andere Pflänzchen und damit ein bisschen Frühling mit nach Hause nehmen. Nach unserem Besuch statten wir dem Berggasthof Butterberg noch einen Besuch ab. Dort werden wir schon zu einem leckeren Kaffeegedeck erwartet. Auch dort bleibt noch ein wenig Zeit zum Spazieren gehen zum Beispiel durch den kleinen Streichelzoo oder Sie erklimmen nochmal die Stufen des Aussichtsturmes. \nLeistungen  \n\nBusfahrt\nMittagessen\nFührung in der Erlebnis Gärtnerei\nKaffeetrinken\nReisebegleitung\n\nKosten pro Person \n\n84\,00 Euro
URL:https://reiselustpur.com/event/tf16-2026-eine-erlebnis-gaertnerei-und-ein-besuch-auf-dem-butterberg/
CATEGORIES:Tagesfahrten
END:VEVENT
END:VCALENDAR