BEGIN:VCALENDAR
VERSION:2.0
PRODID:-//reiselust.pur - ECPv6.15.15//NONSGML v1.0//EN
CALSCALE:GREGORIAN
METHOD:PUBLISH
X-WR-CALNAME:reiselust.pur
X-ORIGINAL-URL:https://reiselustpur.com
X-WR-CALDESC:Veranstaltungen für reiselust.pur
REFRESH-INTERVAL;VALUE=DURATION:PT1H
X-Robots-Tag:noindex
X-PUBLISHED-TTL:PT1H
BEGIN:VTIMEZONE
TZID:Europe/Berlin
BEGIN:DAYLIGHT
TZOFFSETFROM:+0100
TZOFFSETTO:+0200
TZNAME:CEST
DTSTART:20250330T010000
END:DAYLIGHT
BEGIN:STANDARD
TZOFFSETFROM:+0200
TZOFFSETTO:+0100
TZNAME:CET
DTSTART:20251026T010000
END:STANDARD
BEGIN:DAYLIGHT
TZOFFSETFROM:+0100
TZOFFSETTO:+0200
TZNAME:CEST
DTSTART:20260329T010000
END:DAYLIGHT
BEGIN:STANDARD
TZOFFSETFROM:+0200
TZOFFSETTO:+0100
TZNAME:CET
DTSTART:20261025T010000
END:STANDARD
BEGIN:DAYLIGHT
TZOFFSETFROM:+0100
TZOFFSETTO:+0200
TZNAME:CEST
DTSTART:20270328T010000
END:DAYLIGHT
BEGIN:STANDARD
TZOFFSETFROM:+0200
TZOFFSETTO:+0100
TZNAME:CET
DTSTART:20271031T010000
END:STANDARD
END:VTIMEZONE
BEGIN:VEVENT
DTSTART;VALUE=DATE:20260423
DTEND;VALUE=DATE:20260424
DTSTAMP:20260421T151000
CREATED:20260205T105502Z
LAST-MODIFIED:20260326T113653Z
UID:429-1776902400-1776988799@reiselustpur.com
SUMMARY:TF18-2026 Die Götterberge der Lausitz… Vom Czorneboh zum Bieleboh
DESCRIPTION:Die Götterberge der Lausitz sind eine sagenumwobene Bezeichnung für markante Berg- und Felsformationen in der Oberlausitz\, die schon früh als heilige Orte galten. Vor allem die Sorbinnen und Sorben verbanden diese Berge mit ihren alten Gottheiten\, Naturgeistern und Kultplätzen. Zu den bekanntesten zählen der Czorneboh (Schwarzer Gott) Sinnbild für Dunkelheit und zerstörerische Kräfte und der Bieleboh (Weißer Gott) Gegenpol\, stehend für Licht und Ordnung. Die Götterberge stehen bis heute für die enge Verbindung von Natur\, Glauben und regionaler Geschichte in der Lausitz. Heute stehen auf beiden dieser Berge wunderbare Bergbauden\, welche wir heute zur Einkehr zu Mittag und Kaffee besuchen werden. Genießen Sie die wunderbare Natur auf diesen Bergen. Eine Rundfahrt durch die Region rundet diesen schönen Ausflugstag ab.Die Götterberge der Lausitz sind eine sagenumwobene Bezeichnung für markante Berg- und Felsformationen in der Oberlausitz\, die schon früh als heilige Orte galten. Vor allem die Sorbinnen und Sorben verbanden diese Berge mit ihren alten Gottheiten\, Naturgeistern und Kultplätzen. Zu den bekanntesten zählen der Czorneboh (Schwarzer Gott) Sinnbild für Dunkelheit und zerstörerische Kräfte und der Bieleboh (Weißer Gott) Gegenpol\, stehend für Licht und Ordnung. Die Götterberge stehen bis heute für die enge Verbindung von Natur\, Glauben und regionaler Geschichte in der Lausitz. Heute stehen auf beiden dieser Berge wunderbare Bergbauden\, welche wir heute zur Einkehr zu Mittag und Kaffee besuchen werden. Genießen Sie die wunderbare Natur auf diesen Bergen. Eine Rundfahrt durch die Region rundet diesen schönen Ausflugstag ab. \nLeistungen \n\nBusfahrt\nMittagessen\nRundfahrt in der Region\nKaffeetrinken\nReisebegleitung\n\nKosten pro Person \n\n83\,00 Euro
URL:https://reiselustpur.com/event/tf18-2026-die-goetterberge-der-lausitz-vom-czorneboh-zum-bieleboh/
CATEGORIES:Tagesfahrten
END:VEVENT
END:VCALENDAR