BEGIN:VCALENDAR
VERSION:2.0
PRODID:-//reiselust.pur - ECPv6.15.15//NONSGML v1.0//EN
CALSCALE:GREGORIAN
METHOD:PUBLISH
X-ORIGINAL-URL:https://reiselustpur.com
X-WR-CALDESC:Veranstaltungen für reiselust.pur
REFRESH-INTERVAL;VALUE=DURATION:PT1H
X-Robots-Tag:noindex
X-PUBLISHED-TTL:PT1H
BEGIN:VTIMEZONE
TZID:Europe/Berlin
BEGIN:DAYLIGHT
TZOFFSETFROM:+0100
TZOFFSETTO:+0200
TZNAME:CEST
DTSTART:20250330T010000
END:DAYLIGHT
BEGIN:STANDARD
TZOFFSETFROM:+0200
TZOFFSETTO:+0100
TZNAME:CET
DTSTART:20251026T010000
END:STANDARD
BEGIN:DAYLIGHT
TZOFFSETFROM:+0100
TZOFFSETTO:+0200
TZNAME:CEST
DTSTART:20260329T010000
END:DAYLIGHT
BEGIN:STANDARD
TZOFFSETFROM:+0200
TZOFFSETTO:+0100
TZNAME:CET
DTSTART:20261025T010000
END:STANDARD
BEGIN:DAYLIGHT
TZOFFSETFROM:+0100
TZOFFSETTO:+0200
TZNAME:CEST
DTSTART:20270328T010000
END:DAYLIGHT
BEGIN:STANDARD
TZOFFSETFROM:+0200
TZOFFSETTO:+0100
TZNAME:CET
DTSTART:20271031T010000
END:STANDARD
END:VTIMEZONE
BEGIN:VEVENT
DTSTART;VALUE=DATE:20260511
DTEND;VALUE=DATE:20260512
DTSTAMP:20260422T030045
CREATED:20260205T110045Z
LAST-MODIFIED:20260326T114037Z
UID:435-1778457600-1778543999@reiselustpur.com
SUMMARY:TF21-2026 Alles Gute zum Muttertag… wünschen wir die Reiselust und Patrick Lindner (Begrenzte Kartenanzahl)
DESCRIPTION:Kulinarische und musikalische Höhepunkte auf dem Saal des Laußnitzer Hofes. Verbringen Sie einen unvergesslichen Nachmittag mit Stargast Patrick Lindner\, bekannt aus Radio und Fernsehen und erstmalig live im Laußnitzer Hof. Ein großartiges abwechslungsreiches Musik Programm\, mit bester Unterhaltung und voller Lebensfreude. Vor dem Programm gibt es noch ein leckeres Mittagessen\, auch Kaffee und Kuchen werden an diesem Tag für Sie gereicht\, so wie Sie es von der Reiselust gewöhnt sind. Schlager trifft Volksmusik… kommen Sie mit und genießen Sie „Ihren“ Tag. \nLeistungen \n\nBusfahrt\nMittagessen\nMusikprogramm mit Patrick Lindner\nKaffeetrinken\nReisebegleitung\n\nKosten pro Person \n\n100\,00 Euro\n\nAchtung! Begrenzte Kartenanzahl!
URL:https://reiselustpur.com/event/tf21-2026-alles-gute-zum-muttertag-wuenschen-wir-die-reiselust-und-patrick-lindner/
CATEGORIES:Tagesfahrten
END:VEVENT
END:VCALENDAR