BEGIN:VCALENDAR
VERSION:2.0
PRODID:-//reiselust.pur - ECPv6.15.15//NONSGML v1.0//EN
CALSCALE:GREGORIAN
METHOD:PUBLISH
X-WR-CALNAME:reiselust.pur
X-ORIGINAL-URL:https://reiselustpur.com
X-WR-CALDESC:Veranstaltungen für reiselust.pur
REFRESH-INTERVAL;VALUE=DURATION:PT1H
X-Robots-Tag:noindex
X-PUBLISHED-TTL:PT1H
BEGIN:VTIMEZONE
TZID:Europe/Berlin
BEGIN:DAYLIGHT
TZOFFSETFROM:+0100
TZOFFSETTO:+0200
TZNAME:CEST
DTSTART:20250330T010000
END:DAYLIGHT
BEGIN:STANDARD
TZOFFSETFROM:+0200
TZOFFSETTO:+0100
TZNAME:CET
DTSTART:20251026T010000
END:STANDARD
BEGIN:DAYLIGHT
TZOFFSETFROM:+0100
TZOFFSETTO:+0200
TZNAME:CEST
DTSTART:20260329T010000
END:DAYLIGHT
BEGIN:STANDARD
TZOFFSETFROM:+0200
TZOFFSETTO:+0100
TZNAME:CET
DTSTART:20261025T010000
END:STANDARD
BEGIN:DAYLIGHT
TZOFFSETFROM:+0100
TZOFFSETTO:+0200
TZNAME:CEST
DTSTART:20270328T010000
END:DAYLIGHT
BEGIN:STANDARD
TZOFFSETFROM:+0200
TZOFFSETTO:+0100
TZNAME:CET
DTSTART:20271031T010000
END:STANDARD
END:VTIMEZONE
BEGIN:VEVENT
DTSTART;VALUE=DATE:20260518
DTEND;VALUE=DATE:20260525
DTSTAMP:20260422T083725
CREATED:20260205T132032Z
LAST-MODIFIED:20260401T113104Z
UID:524-1779062400-1779667199@reiselustpur.com
SUMMARY:MTF1-26 Urlaub auf der Insel Usedom
DESCRIPTION:18.05.26 bis 24.05.26 / 6 Tage Erholung Seebad Zempin\nHotel\nIhre Unterkunft auf Zeit\, das familiengeführte Hotel „Wikinger“ im Seebad Zempin liegt im Dünenbereich nur ca. 100m vom herrlichen Strand der Ostsee entfernt. Zempin\, eins der vier Bernsteinbäder\, ist das kleinste Seebad der Insel. In waldreicher\, ruhiger Lage finden Sie was der Erholung dient: das Meer\, unberührte Natur und Ruhe. \n18.05.2026 Anreise\nBus Anreise nach Usedom in das Seebad Zempin. Der an der schmalsten Stelle Usedoms gelegene Ort\, zwischen Koserow und Zinnowitz wird Sie vor allem mit seinen reetgedeckten Fischerhäusern begeistern.\nGemeinsames Abendessen im Hotel \n19.05.2026 Ostseestrand\nFreizeit – Genießen Sie die Ostsee an unserem schönen Strand in einem Strandkorb oder fahren Sie mit der Usedomer Bäderbahn (in Ihrer Kurkarte inkl.) nach Swinemünde. Die Möglichkeiten sind vielfältig. \n20.05.2026 2-stündige Schifffahrt\nNach dem Frühstück werden wir von unserer netten Reiseleitung begrüßt. Heute steht für Sie eine 2-stündige Schifffahrt auf dem Achterwasser an. Danach geht es weiter\, wir besuchen das kleine Fischerdorf Kamminke am Stettiner Haff wo ein leckerer Fischbrötchen Snack auf Sie wartet. Zurück geht es dann Richtung Hotel\, zuvor legen wir aber noch einen Stopp in Koserow ein und werden den kleinen Ort mit seiner markanten Seebrücke besuchen. \n21.05.2026 Inselrundfahrt Süd\nNach dem Frühstück erkunden wir mit unserer örtlichen Reiseleitung die Insel. Die Fahrt geht entlang der Bäderstraße zu den Kaiserbädern Ahlbeck und Heringsdorf. Hier ist mit unserer Reiseleitung ein Promenadenspaziergang geplant\, danach haben wir ausreichend Zeit zur Stärkung und Erholung. Anschließend fahren wir zum Wasserschloss Mellenthin\, ein wunderbares Kleinod\, wo wir einen Kaffee aus der hauseigenen Rösterei und ein Stück Torte oder Kuchen genießen werden. \n22.05.2026 Inselrundfahrt Nord\nNach dem leckeren Frühstücks Buffet wollen wir heute mit unserer Reiseleitung den Norden der Insel erkunden. Über Trassenheide und Karlshagen fahren wir nach Pennemünde zum Hafen. Dort machen wir einen kleinen Stopp und schauen was es alles zu entdecken gibt. Krummin mit seinem bekannten Gartencafe „Naschkatze“ und natürlich Zinnowitz sind weitere Ziele an diesem Ausflugstag. In Zinnowitz bleibt genug Zeit für einen kleinen Spaziergang auf der Promenade und über die Seebrücke \n23.05.2026 Freizeit\nGenießen Sie die Ostsee an unserem schönen Strand in einem Strandkorb oder fahren Sie mit der Usedomer Bäderbahn (in Ihrer Kurkarte inkl.) nach Swinemünde. Die Möglichkeiten sind vielfältig. \n24.05.2026 Heimreise\nNach einem nochmals leckeren Frühstück treten wir mit wunderbaren Reiseerinnerungen die Heimreise an. Eine erholsame Woche an unserer geliebten Ostsee auf der schönen Insel Usedom geht zu Ende. \nUnsere Leistungen \n\nFahrt im modernen Reisebus\nReisebegleitung und Bordservice\n3 Tage örtliche Reiseleitung\nZimmer mit DU/WC\n6 x Übernachtung mit Halbpension (Frühstück und Abendessen)\nWLAN kostenfrei im Hotel\n1x Willkommens Getränk\n2x Inselrundfahrt (Nord und Süd)\n1x 2-stündige Schifffahrt + Rundfahrt\n1x Kaffeegedeck am Nachmittag\n1x Fischbrötchen Snack\n\nHinweis \nBei Buchung bitte Reise-Nr. MTF 1-26 angeben\nEintrittsgelder und Kurtaxe Extrakosten\nGültiger Personalausweis erforderlich \nÄnderungen der Tage bzw. der Ausflüge ausdrücklich vorbehalten\, z. Bsp. wegen Schlechtwetter oder ähnlichem. \nPreis pro Person \n\n1.126\,00 Euro im Doppelzimmer\n1.326\,00 Euro im Einzelzimmer\n\nMindestteilnehmerzahl: 25 Personen \n 
URL:https://reiselustpur.com/event/mtf1-26-urlaub-auf-der-insel-usedom/
CATEGORIES:Mehrtagesfahrten
ATTACH;FMTTYPE=image/jpeg:https://reiselustpur.com/wp-content/uploads/2026/02/Usedom_2.jpg
END:VEVENT
END:VCALENDAR