BEGIN:VCALENDAR
VERSION:2.0
PRODID:-//reiselust.pur - ECPv6.15.15//NONSGML v1.0//EN
CALSCALE:GREGORIAN
METHOD:PUBLISH
X-WR-CALNAME:reiselust.pur
X-ORIGINAL-URL:https://reiselustpur.com
X-WR-CALDESC:Veranstaltungen für reiselust.pur
REFRESH-INTERVAL;VALUE=DURATION:PT1H
X-Robots-Tag:noindex
X-PUBLISHED-TTL:PT1H
BEGIN:VTIMEZONE
TZID:Europe/Berlin
BEGIN:DAYLIGHT
TZOFFSETFROM:+0100
TZOFFSETTO:+0200
TZNAME:CEST
DTSTART:20250330T010000
END:DAYLIGHT
BEGIN:STANDARD
TZOFFSETFROM:+0200
TZOFFSETTO:+0100
TZNAME:CET
DTSTART:20251026T010000
END:STANDARD
BEGIN:DAYLIGHT
TZOFFSETFROM:+0100
TZOFFSETTO:+0200
TZNAME:CEST
DTSTART:20260329T010000
END:DAYLIGHT
BEGIN:STANDARD
TZOFFSETFROM:+0200
TZOFFSETTO:+0100
TZNAME:CET
DTSTART:20261025T010000
END:STANDARD
BEGIN:DAYLIGHT
TZOFFSETFROM:+0100
TZOFFSETTO:+0200
TZNAME:CEST
DTSTART:20270328T010000
END:DAYLIGHT
BEGIN:STANDARD
TZOFFSETFROM:+0200
TZOFFSETTO:+0100
TZNAME:CET
DTSTART:20271031T010000
END:STANDARD
END:VTIMEZONE
BEGIN:VEVENT
DTSTART;VALUE=DATE:20260528
DTEND;VALUE=DATE:20260529
DTSTAMP:20260422T203552
CREATED:20260205T113401Z
LAST-MODIFIED:20260326T114205Z
UID:465-1779926400-1780012799@reiselustpur.com
SUMMARY:TF23-2026 Spargelschmaus und Kremserfahrt – Unsere jährlich beliebte Spargelfahrt
DESCRIPTION:Zwischen zwei Naturparks\, der Niederlausitzer Heidelandschaft und dem Niederlausitzer Landrücken liegt das Schlossparkhotel Sallgast. Dort dreht sich heute alles um den Spargel\, diese leckeren gesunden Stangen. Der Chefkoch zaubert für uns 3 leckere Wahlgerichte\, welche wir in vollen Zügen genießen werden. Danach geht es gemütlich weiter. Mit 2 PS werden wir vom Kremser aus\, die reizvolle Landschaft rund um Sallgast entdecken. Wieder zurück kann noch ein Spaziergang im unmittelbar angrenzenden Schlosspark unternommen werden\, bevor duftender Kaffee und leckere Torte schon auf uns warten. Kommen Sie mit zu dieser Schlemmertour bei netten Gastgebern in geselliger Runde und herrlicher Natur. \nLeistungen \n\nBusfahrt\nMittagessen\nKremserfahrt\nKaffeetrinken\nReisebegleitung\n\nKosten pro Person \n\n90\,00 Euro
URL:https://reiselustpur.com/event/tf23-2026-spargelschmaus-und-kremserfahrt-unsere-jaehrlich-beliebte-spargelfahrt/
CATEGORIES:Tagesfahrten
END:VEVENT
END:VCALENDAR