BEGIN:VCALENDAR
VERSION:2.0
PRODID:-//reiselust.pur - ECPv6.15.15//NONSGML v1.0//EN
CALSCALE:GREGORIAN
METHOD:PUBLISH
X-WR-CALNAME:reiselust.pur
X-ORIGINAL-URL:https://reiselustpur.com
X-WR-CALDESC:Veranstaltungen für reiselust.pur
REFRESH-INTERVAL;VALUE=DURATION:PT1H
X-Robots-Tag:noindex
X-PUBLISHED-TTL:PT1H
BEGIN:VTIMEZONE
TZID:Europe/Berlin
BEGIN:DAYLIGHT
TZOFFSETFROM:+0100
TZOFFSETTO:+0200
TZNAME:CEST
DTSTART:20250330T010000
END:DAYLIGHT
BEGIN:STANDARD
TZOFFSETFROM:+0200
TZOFFSETTO:+0100
TZNAME:CET
DTSTART:20251026T010000
END:STANDARD
BEGIN:DAYLIGHT
TZOFFSETFROM:+0100
TZOFFSETTO:+0200
TZNAME:CEST
DTSTART:20260329T010000
END:DAYLIGHT
BEGIN:STANDARD
TZOFFSETFROM:+0200
TZOFFSETTO:+0100
TZNAME:CET
DTSTART:20261025T010000
END:STANDARD
BEGIN:DAYLIGHT
TZOFFSETFROM:+0100
TZOFFSETTO:+0200
TZNAME:CEST
DTSTART:20270328T010000
END:DAYLIGHT
BEGIN:STANDARD
TZOFFSETFROM:+0200
TZOFFSETTO:+0100
TZNAME:CET
DTSTART:20271031T010000
END:STANDARD
END:VTIMEZONE
BEGIN:VEVENT
DTSTART;VALUE=DATE:20260603
DTEND;VALUE=DATE:20260604
DTSTAMP:20260423T000003
CREATED:20260205T113728Z
LAST-MODIFIED:20260326T114420Z
UID:467-1780444800-1780531199@reiselustpur.com
SUMMARY:TF24-2026 Die Spiegelwaldbaude – Der König-Albert-Turm und eine Heimatecke
DESCRIPTION:Freuen können Sie sich heute auf einen fantastischen Ausflug in unser schönes Erzgebirge. In der Spiegelwaldbaude werden wir vom Wirt schon erwartet. Gemeinsam lassen wir uns das erzgebirgische Mittagessen schmecken. Gebucht haben wir für Sie im Anschluss den Eintritt zum König-Albert-Turm auf dem 728 m hohen Spiegelwald\, der sich unmittelbar neben der schönen Bergbaude befindet. Auch wenn der Turm seit seiner ersten Erbauung mehrfach verändert wurde\, so ist eines immer geblieben\, der weite faszinierende Rundblick auf den Erzgebirgskamm und weite Teile Sachsens. Bequem und schnell gelangen Sie zur Aussichtsplattform in 31\,5 Meter Höhe. Ein behindertengerechter Aufzug ermöglicht den Turmbesuch für Jung und Alt. Oben angekommen\, wird man mit beeindruckenden Ausblicken belohnt. Das herrliche Panorama reicht vom Fichtelberg bis zu den Höhenzügen des Vogtlandes. Im Norden sind bei guter Sicht die Rochlitzer Berge erkennbar\, mit etwas Glück sogar die Silhouette von Leipzig mit seinem Völkerschlachtdenkmal. Ein wahrhaft majestätischer Ausblick. Danach geht es weiter. Nach so viel Erzgebirge von oben\, wartet dies jetzt für uns noch liebevoll gestaltet in der Heimatecke Waschleithe. Die Heimatecke Waschleithe ist eine liebevoll gestaltete Miniaturschauanlage\, die das Leben im Erzgebirge zeigt. In detailreichen Modellen sieht man typische erzgebirgische Häuser\, Handwerksbetriebe\, Bergbau-Szenen\, Eisenbahn und Alltagsleben vergangener Zeiten. Viele Figuren sind beweglich\, was die Anlage besonders lebendig macht. Kurz gesagt: ein schöner Ort\, um erzgebirgische Geschichte und Tradition im Kleinformat bei einem Spaziergang durch die Anlage zu entdecken. Die Wege in der kleinen Anlage sind gut ausgebaut\, es gibt viele Sitzgelegenheiten und somit steht einem entspannten Besuch nichts im Wege. Danach geht es wieder Richtung Heimat. Auf dem Weg nach Hause werden wir aber im schönen Erzgebirge noch einen Stopp zum Kaffeetrinken einlegen. \nLeistungen \n\nBusfahrt\nMittagessen\nEintritt König-Albert-Turm\nEintritt Heimatecke Waschleithe\nKaffeetrinken\nReisebegleitung\n\nKosten pro Person \n\n90\,00 Euro
URL:https://reiselustpur.com/event/tf24-2026-die-spiegelwaldbaude-der-koenig-albert-turm-und-eine-heimatecke/
CATEGORIES:Tagesfahrten
END:VEVENT
END:VCALENDAR