BEGIN:VCALENDAR
VERSION:2.0
PRODID:-//reiselust.pur - ECPv6.15.15//NONSGML v1.0//EN
CALSCALE:GREGORIAN
METHOD:PUBLISH
X-WR-CALNAME:reiselust.pur
X-ORIGINAL-URL:https://reiselustpur.com
X-WR-CALDESC:Veranstaltungen für reiselust.pur
REFRESH-INTERVAL;VALUE=DURATION:PT1H
X-Robots-Tag:noindex
X-PUBLISHED-TTL:PT1H
BEGIN:VTIMEZONE
TZID:Europe/Berlin
BEGIN:DAYLIGHT
TZOFFSETFROM:+0100
TZOFFSETTO:+0200
TZNAME:CEST
DTSTART:20250330T010000
END:DAYLIGHT
BEGIN:STANDARD
TZOFFSETFROM:+0200
TZOFFSETTO:+0100
TZNAME:CET
DTSTART:20251026T010000
END:STANDARD
BEGIN:DAYLIGHT
TZOFFSETFROM:+0100
TZOFFSETTO:+0200
TZNAME:CEST
DTSTART:20260329T010000
END:DAYLIGHT
BEGIN:STANDARD
TZOFFSETFROM:+0200
TZOFFSETTO:+0100
TZNAME:CET
DTSTART:20261025T010000
END:STANDARD
BEGIN:DAYLIGHT
TZOFFSETFROM:+0100
TZOFFSETTO:+0200
TZNAME:CEST
DTSTART:20270328T010000
END:DAYLIGHT
BEGIN:STANDARD
TZOFFSETFROM:+0200
TZOFFSETTO:+0100
TZNAME:CET
DTSTART:20271031T010000
END:STANDARD
END:VTIMEZONE
BEGIN:VEVENT
DTSTART;VALUE=DATE:20260617
DTEND;VALUE=DATE:20260618
DTSTAMP:20260423T145519
CREATED:20260205T115037Z
LAST-MODIFIED:20260326T114613Z
UID:473-1781654400-1781740799@reiselustpur.com
SUMMARY:TF26-2026 Der Unterspreewald rund um Schlepzig – Ein einzigartiges Naturparadies
DESCRIPTION:Begleiten Sie und heute in diese einzigartige Naturparadies. Der Unterspreewald um Schlepzig ist eine idyllische Fluss- und Wiesenlandschaft im südlichen Spreewald. Charakteristisch sind die verzweigten Fließe\, ruhige Wasserarme\, Auenwälder und weite Wiesen\, die sich ideal für Kahnfahrten\, Paddeln und Rad- oder Wandertouren eignen. Schlepzig selbst gilt als traditionsreiches Spreewalddorf mit slawischen Wurzeln\, gepflegten Höfen und regionaler Küche. Insgesamt wirkt der Unterspreewald hier naturnah\, ruhig und weniger touristisch überlaufen\, perfekt zum Entschleunigen. Dies alles können Sie heute bei einer großen Kahnrundfahrt erleben. Diese unterbrechen wir für Sie nur für ein leckeres Spreewälder Mittagessen. Im Spreewaldgasthaus Petkampsberg kehren wir während der Kahnfahrt ein. Dort sitzen wir an der leicht dahinfließenden Spree\, genießen die Ruhe und Natur und natürlich ein leckeres Mittagessen. Danach geht es weiter mit dem Kahn zur zweiten Runde. Wir beobachten weiter die Tier- und Pflanzenwelt des Biosphärenreservats und fahren zurück nach Schlepzig\, wo für uns alle\, bevor es wieder nach Hause geht\, noch ein gemeinsames Kaffeetrinken wartet. \nLeistungen \n\nBusfahrt\nMittagessen\nGroße Kahnfahrtrundfahrt\nKaffeetrinken\nReisebegleitung\n\nKosten pro Person \n\n94\,00 Euro
URL:https://reiselustpur.com/event/tf26-2026-der-unterspreewald-rund-um-schlepzig-ein-einzigartiges-naturparadies/
CATEGORIES:Tagesfahrten
END:VEVENT
END:VCALENDAR