BEGIN:VCALENDAR
VERSION:2.0
PRODID:-//reiselust.pur - ECPv6.15.15//NONSGML v1.0//EN
CALSCALE:GREGORIAN
METHOD:PUBLISH
X-WR-CALNAME:reiselust.pur
X-ORIGINAL-URL:https://reiselustpur.com
X-WR-CALDESC:Veranstaltungen für reiselust.pur
REFRESH-INTERVAL;VALUE=DURATION:PT1H
X-Robots-Tag:noindex
X-PUBLISHED-TTL:PT1H
BEGIN:VTIMEZONE
TZID:Europe/Berlin
BEGIN:DAYLIGHT
TZOFFSETFROM:+0100
TZOFFSETTO:+0200
TZNAME:CEST
DTSTART:20250330T010000
END:DAYLIGHT
BEGIN:STANDARD
TZOFFSETFROM:+0200
TZOFFSETTO:+0100
TZNAME:CET
DTSTART:20251026T010000
END:STANDARD
BEGIN:DAYLIGHT
TZOFFSETFROM:+0100
TZOFFSETTO:+0200
TZNAME:CEST
DTSTART:20260329T010000
END:DAYLIGHT
BEGIN:STANDARD
TZOFFSETFROM:+0200
TZOFFSETTO:+0100
TZNAME:CET
DTSTART:20261025T010000
END:STANDARD
BEGIN:DAYLIGHT
TZOFFSETFROM:+0100
TZOFFSETTO:+0200
TZNAME:CEST
DTSTART:20270328T010000
END:DAYLIGHT
BEGIN:STANDARD
TZOFFSETFROM:+0200
TZOFFSETTO:+0100
TZNAME:CET
DTSTART:20271031T010000
END:STANDARD
END:VTIMEZONE
BEGIN:VEVENT
DTSTART;VALUE=DATE:20260623
DTEND;VALUE=DATE:20260624
DTSTAMP:20260423T183226
CREATED:20260205T120847Z
LAST-MODIFIED:20260326T114652Z
UID:477-1782172800-1782259199@reiselustpur.com
SUMMARY:TF27-2026 An der Saale hellem Strande – Bad Kösen mit Schifffahrt
DESCRIPTION:Da leuchten garantiert nicht nur Kinderaugen! Wer kennt Sie nicht\, die berühmte Puppenmutter Käthe Kruse! In Bad Kösen stand ihre erste Puppenwerkstatt. Ehe wir das beschauliche Städtchen etwas näher kennenlernen\, starten wir mit einem gemeinsamen Mittagessen am Ufer der Saale in den Tag. Anschließend gehen Sie gemeinsam mit unserer ortskundigen Gästeführung auf Entdeckungstour in und um Bad Kösen. (Rundfahrt und kleiner Rundgang) Sicher werden Sie fasziniert sein werden von dem 320 Meter langen Gradierwerk\, einer technischen Meisterleistung des 18. Jahrhunderts. Das dazugehörige restaurierte Kunstgestänge zieht sich durch den ganzen Ort und dient zum Antrieb der Schachtpumpen im Gradierwerk. Angetrieben wird es mit einem Wasserrad an der Saale. Die salzhaltige\, reinigende Luft nutzen Kurgäste noch heutzutage. Am Nachmittag werden Sie von den Wellen der Saale empfangen. Während der einstündigen Schifffahrt zum Saalebogen ziehen traumhafte Weinberge und die romantische Rudelsburg an Ihnen vorbei. Genießen Sie die Ruhe des Stroms und die faszinierenden Aussichten bei einer Tasse Kaffee und leckeren Kuchen\, welcher uns während der Schifffahrt gereicht wird. \nLeistungen \n\nBusfahrt\nörtliche Reiseleitung in Bad Kösen\nMittagessen\nkleine Rundfahrt\nkleiner Stadtspaziergang\nSchifffahrt\nKaffeetrinken\nReisebegleitung\n\nKosten pro Person \n\n98\,00 Euro
URL:https://reiselustpur.com/event/tf27-2026-an-der-saale-hellem-strande-bad-koesen-mit-schifffahrt/
CATEGORIES:Tagesfahrten
END:VEVENT
END:VCALENDAR