BEGIN:VCALENDAR
VERSION:2.0
PRODID:-//reiselust.pur - ECPv6.15.15//NONSGML v1.0//EN
CALSCALE:GREGORIAN
METHOD:PUBLISH
X-WR-CALNAME:reiselust.pur
X-ORIGINAL-URL:https://reiselustpur.com
X-WR-CALDESC:Veranstaltungen für reiselust.pur
REFRESH-INTERVAL;VALUE=DURATION:PT1H
X-Robots-Tag:noindex
X-PUBLISHED-TTL:PT1H
BEGIN:VTIMEZONE
TZID:Europe/Berlin
BEGIN:DAYLIGHT
TZOFFSETFROM:+0100
TZOFFSETTO:+0200
TZNAME:CEST
DTSTART:20250330T010000
END:DAYLIGHT
BEGIN:STANDARD
TZOFFSETFROM:+0200
TZOFFSETTO:+0100
TZNAME:CET
DTSTART:20251026T010000
END:STANDARD
BEGIN:DAYLIGHT
TZOFFSETFROM:+0100
TZOFFSETTO:+0200
TZNAME:CEST
DTSTART:20260329T010000
END:DAYLIGHT
BEGIN:STANDARD
TZOFFSETFROM:+0200
TZOFFSETTO:+0100
TZNAME:CET
DTSTART:20261025T010000
END:STANDARD
BEGIN:DAYLIGHT
TZOFFSETFROM:+0100
TZOFFSETTO:+0200
TZNAME:CEST
DTSTART:20270328T010000
END:DAYLIGHT
BEGIN:STANDARD
TZOFFSETFROM:+0200
TZOFFSETTO:+0100
TZNAME:CET
DTSTART:20271031T010000
END:STANDARD
END:VTIMEZONE
BEGIN:VEVENT
DTSTART;VALUE=DATE:20260629
DTEND;VALUE=DATE:20260630
DTSTAMP:20260424T010746
CREATED:20260227T141530Z
LAST-MODIFIED:20260326T114801Z
UID:667-1782691200-1782777599@reiselustpur.com
SUMMARY:TF28-2026 Zusatzfahrt Mückentürmchen – Fantastische Ausblicke nach Böhmen und ins Osterzgebirge
DESCRIPTION:Heute geht es mal wieder auf die Höhen des Osterzgebirges. Durch eine malerische Landschaft geht es hinauf zum Mückentürmchen auf der tschechischen Seite des Erzgebirge Kamms. Im 1568 errichteten Turm befindet sich heute ein Berghotel\, wo wir zur besten Mittagszeit mit wunderbaren Ausblicken die regionale tschechische Küche genießen werden. Nach dem Mittagessen haben Sie die Möglichkeit noch ein wenig auf dem Gelände des Berggasthofes zu spazieren. Genießen Sie von dort aus auch die Ausblicke bis weit ins böhmische Becken. Mit dem Bus geht es dann weiter. Bei einer Rundfahrt lassen wir die schöne Landschaft an uns vorüberziehen. Im bunten Häusl in Altenberg\, einem wunderbar eingerichteten Kaffee laden wir Sie noch zu einem duftenden Kaffee und einem guten Stück Torte ein. Fantastische Ausblicke\, böhmische Küche\, herrliche Landschaft\, deutsche Kaffeekultur\, was will man mehr. Kommen Sie gern mit zu diesem schönen Tagesausflug. \nLeistungen \n\nBusfahrt\nMittagessen\nLandschaftstour\nKaffeetrinken\nReisebegleitung\n\nKosten pro Person \n\n82\,00 Euro
URL:https://reiselustpur.com/event/tf28-2026-mueckentuermchen-fantastische-ausblicke-nach-boehmen-und-ins-osterzgebirge-2/
CATEGORIES:Tagesfahrten
END:VEVENT
END:VCALENDAR