BEGIN:VCALENDAR
VERSION:2.0
PRODID:-//reiselust.pur - ECPv6.15.15//NONSGML v1.0//EN
CALSCALE:GREGORIAN
METHOD:PUBLISH
X-ORIGINAL-URL:https://reiselustpur.com
X-WR-CALDESC:Veranstaltungen für reiselust.pur
REFRESH-INTERVAL;VALUE=DURATION:PT1H
X-Robots-Tag:noindex
X-PUBLISHED-TTL:PT1H
BEGIN:VTIMEZONE
TZID:Europe/Berlin
BEGIN:DAYLIGHT
TZOFFSETFROM:+0100
TZOFFSETTO:+0200
TZNAME:CEST
DTSTART:20250330T010000
END:DAYLIGHT
BEGIN:STANDARD
TZOFFSETFROM:+0200
TZOFFSETTO:+0100
TZNAME:CET
DTSTART:20251026T010000
END:STANDARD
BEGIN:DAYLIGHT
TZOFFSETFROM:+0100
TZOFFSETTO:+0200
TZNAME:CEST
DTSTART:20260329T010000
END:DAYLIGHT
BEGIN:STANDARD
TZOFFSETFROM:+0200
TZOFFSETTO:+0100
TZNAME:CET
DTSTART:20261025T010000
END:STANDARD
BEGIN:DAYLIGHT
TZOFFSETFROM:+0100
TZOFFSETTO:+0200
TZNAME:CEST
DTSTART:20270328T010000
END:DAYLIGHT
BEGIN:STANDARD
TZOFFSETFROM:+0200
TZOFFSETTO:+0100
TZNAME:CET
DTSTART:20271031T010000
END:STANDARD
END:VTIMEZONE
BEGIN:VEVENT
DTSTART;VALUE=DATE:20260708
DTEND;VALUE=DATE:20260709
DTSTAMP:20260424T102136
CREATED:20260326T121838Z
LAST-MODIFIED:20260326T122022Z
UID:743-1783468800-1783555199@reiselustpur.com
SUMMARY:TF30-2026 Kremserfahrt rund um die Rauschenbach Talsperre
DESCRIPTION:Heute zieht es und mal wieder ins schöne Osterzgebirge. Der Tag beginnt mit einem gemeinsamen Mittagessen in einer gemütlichen Gaststätte der Region. In uriger Atmosphäre werden erzgebirgische Spezialitäten serviert – herzhaft\, frisch und genau das Richtige\, um gestärkt in den Nachmittag zu starten. Dabei bleibt genügend Zeit für Gespräche und ein erstes Einstimmen auf die umliegende Natur. Anschließend startet unsere Kremserfahrt ab Cämmerswalde durch die reizvolle Landschaft des Erzgebirges – und immer wieder rückt dabei die Rauschenbach Talsperre in den Blick. Sie gehört zu den größten Trinkwassertalsperren Sachsens und wurde in den 1960er-Jahren errichtet\, um die Region zuverlässig mit Wasser zu versorgen. Eingebettet in dichte Wälder wirkt sie wie ein ruhiger\, natürlicher See\, obwohl sie ein bedeutendes technisches Bauwerk ist. Die weitläufige Wasserfläche erstreckt sich über mehrere Kilometer und ist von sanften Höhenzügen umgeben. Besonders beeindruckend ist die Kombination aus unberührter Natur und funktionaler Bedeutung: Da die Talsperre der Trinkwasserversorgung dient\, ist sie streng geschützt – Motorboote oder Badebetrieb sucht man hier vergeblich. Gerade diese Ruhe macht ihren besonderen Reiz aus: Das Wasser liegt oft spiegelglatt da\, und die umliegenden Wälder spiegeln sich darin. Während der Kremserfahrt führen Teilstrecken direkt am Ufer entlang oder bieten erhöhte Aussichtspunkte\, von denen aus man die Größe und Weite der Anlage gut erfassen kann. Unser Kutscher weiß meist Spannendes zur Entstehung und zur Bedeutung der Talsperre für die Region zu berichten. In Rauschenbach angekommen heißt es wieder umsteigen. Unser Bus wartet schon auf uns. Wir lassen die Talsperre hinter uns\, genießen weiterhin die schöne Landschaft und beschließen den Tag mit einem gemeinsamen Kaffeetrinken. Ein wunderschöner Ausflug in die Natur des Osterzgebirges. \nLeistungen \n\nBusfahrt\nMittagessen\nKremserfahrt\nKaffeetrinken\nReisebegleitung\n\nKosten pro Person \n\n89\,00 Euro
URL:https://reiselustpur.com/event/tf30-2026-kremserfahrt-rund-um-die-rauschenbach-talsperre/
CATEGORIES:Tagesfahrten
END:VEVENT
END:VCALENDAR