BEGIN:VCALENDAR
VERSION:2.0
PRODID:-//reiselust.pur - ECPv6.15.15//NONSGML v1.0//EN
CALSCALE:GREGORIAN
METHOD:PUBLISH
X-ORIGINAL-URL:https://reiselustpur.com
X-WR-CALDESC:Veranstaltungen für reiselust.pur
REFRESH-INTERVAL;VALUE=DURATION:PT1H
X-Robots-Tag:noindex
X-PUBLISHED-TTL:PT1H
BEGIN:VTIMEZONE
TZID:Europe/Berlin
BEGIN:DAYLIGHT
TZOFFSETFROM:+0100
TZOFFSETTO:+0200
TZNAME:CEST
DTSTART:20250330T010000
END:DAYLIGHT
BEGIN:STANDARD
TZOFFSETFROM:+0200
TZOFFSETTO:+0100
TZNAME:CET
DTSTART:20251026T010000
END:STANDARD
BEGIN:DAYLIGHT
TZOFFSETFROM:+0100
TZOFFSETTO:+0200
TZNAME:CEST
DTSTART:20260329T010000
END:DAYLIGHT
BEGIN:STANDARD
TZOFFSETFROM:+0200
TZOFFSETTO:+0100
TZNAME:CET
DTSTART:20261025T010000
END:STANDARD
BEGIN:DAYLIGHT
TZOFFSETFROM:+0100
TZOFFSETTO:+0200
TZNAME:CEST
DTSTART:20270328T010000
END:DAYLIGHT
BEGIN:STANDARD
TZOFFSETFROM:+0200
TZOFFSETTO:+0100
TZNAME:CET
DTSTART:20271031T010000
END:STANDARD
END:VTIMEZONE
BEGIN:VEVENT
DTSTART;VALUE=DATE:20260722
DTEND;VALUE=DATE:20260723
DTSTAMP:20260424T172946
CREATED:20260326T122509Z
LAST-MODIFIED:20260326T122509Z
UID:748-1784678400-1784764799@reiselustpur.com
SUMMARY:TF32-2026 Böhmischer Bauden Nachmittag – Sommerfest bei Vera
DESCRIPTION:Heute machen wir gemeinsam mal wieder einen Abstecher nach Böhmen. Genauer gesagt nach Srbská Kamenice – Windisch Kamnitz. In der böhmischen Schweiz werden wir die sagenhafte Natur genießen und hoffen das die Gebiete\, welche durch die verheerenden Waldbrände vor 3 Jahren in Mitleidenschaft gezogen wurden\, sich wieder gut erholt haben. Bei Vera\, in Ihrer Baude werden wir mit einem typisch böhmischen 2 Gang Menü exzellent bewirtet. Wer möchte macht nach dem üppigen Mal mit uns einen kleinen Verdauungsspaziergang zur malerischen Kirche St. Wenzel. Danach gibt es für uns ein böhmisches Musikprogramm und im Anschluss noch lecker Kaffee mit Apfelstrudel und Vanille Eis. Da läuft einem schon jetzt das Wasser im Mund zusammen. Freuen Sie sich auf liebvolle Gastgeber und einen großartigen Tag in Böhmen. \nLeistungen: \n\nBusfahrt\nMittagessen als 2- Gang Menü\nMusikprogramm\nKaffeetrinken\nReisebegleitung\n\nKosten pro Person \n\n83\,00 Euro
URL:https://reiselustpur.com/event/tf32-2026-boehmischer-bauden-nachmittag-sommerfest-bei-vera/
CATEGORIES:Tagesfahrten
END:VEVENT
END:VCALENDAR