BEGIN:VCALENDAR
VERSION:2.0
PRODID:-//reiselust.pur - ECPv6.15.15//NONSGML v1.0//EN
CALSCALE:GREGORIAN
METHOD:PUBLISH
X-ORIGINAL-URL:https://reiselustpur.com
X-WR-CALDESC:Veranstaltungen für reiselust.pur
REFRESH-INTERVAL;VALUE=DURATION:PT1H
X-Robots-Tag:noindex
X-PUBLISHED-TTL:PT1H
BEGIN:VTIMEZONE
TZID:Europe/Berlin
BEGIN:DAYLIGHT
TZOFFSETFROM:+0100
TZOFFSETTO:+0200
TZNAME:CEST
DTSTART:20250330T010000
END:DAYLIGHT
BEGIN:STANDARD
TZOFFSETFROM:+0200
TZOFFSETTO:+0100
TZNAME:CET
DTSTART:20251026T010000
END:STANDARD
BEGIN:DAYLIGHT
TZOFFSETFROM:+0100
TZOFFSETTO:+0200
TZNAME:CEST
DTSTART:20260329T010000
END:DAYLIGHT
BEGIN:STANDARD
TZOFFSETFROM:+0200
TZOFFSETTO:+0100
TZNAME:CET
DTSTART:20261025T010000
END:STANDARD
BEGIN:DAYLIGHT
TZOFFSETFROM:+0100
TZOFFSETTO:+0200
TZNAME:CEST
DTSTART:20270328T010000
END:DAYLIGHT
BEGIN:STANDARD
TZOFFSETFROM:+0200
TZOFFSETTO:+0100
TZNAME:CET
DTSTART:20271031T010000
END:STANDARD
END:VTIMEZONE
BEGIN:VEVENT
DTSTART;VALUE=DATE:20260729
DTEND;VALUE=DATE:20260730
DTSTAMP:20260424T203738
CREATED:20260326T122936Z
LAST-MODIFIED:20260326T122936Z
UID:750-1785283200-1785369599@reiselustpur.com
SUMMARY:TF33-2026 „Pack die Badehose ein\, nimm dein kleines Töchterlein…“ Große Wannseeschifffahrt ab Potsdam
DESCRIPTION:Die Badehose brauchen Sie heute nicht\, begleiten dürfen Sie uns aber trotzdem. Kommen sie mit in die schöne Landeshauptstadt von Brandeburg\, nach Potsdam. Im Zentrum von Potsdam werden wir noch gemeinsam zu Mittag essen\, bevor es dann heißt\, „Leinen los“. Berlins bekanntester Havelsee\, der Große Wannsee\, gibt dieser Fahrt ihren Namen. Vom Hafen Potsdam aus fährt das Schiff am Park Babelsberg mit seinem Schloss und Hofdamenhaus entlang in Richtung Teltow-Kanal und passiert dabei den Griebnitzsee. Dieser wird von zahlreichen Villen ehemaliger UFA-Stars und anderen architektonischen Zeugnissen der Vergangenheit umrahmt. So residierten hier z.B. während der Potsdamer Konferenz im Jahr 1945 der amerikanische Präsident Truman und der britische Premier Churchill. Nachdem das Schiff den Prinz-Friedrich-Leopold-Kanal hinter sich gelassen und den Kleinen Wannsee durchfahren hat\, erreicht es den Großen Wannsee mit seinem berühmten Strandbad. Hier macht das Schiff nach einstündiger Fahrt einen kurzen Halt. Nachdem das Schiff wieder abgelegt hat\, führt die Tour nun vorbei an der Pfaueninsel zurück in Richtung Potsdam. Nach dem Überqueren des Jungfernsees mit seinen Schlössern und Parks durchfahren Sie die berühmte Glienicker Brücke. Vom Tiefen See aus eröffnet sich dem Betrachter noch einmal ein wunderschöner Blick auf die Silhouette Potsdams. Kaffee und Kuchen wir uns auf dem Schiff gereicht. Begleiten Sie uns gern zu diesem wunderschönen Ausflug nach Potsdam und auf dem Wannsee. \nLeistungen: \n\nBusfahrt\nMittagessen\nSchifffahrt\nKaffeetrinken\nReisebegleitung\n\nKosten pro Person \n\n98\,00 Euro
URL:https://reiselustpur.com/event/tf33-2026-pack-die-badehose-ein-nimm-dein-kleines-toechterlein-grosse-wannseeschifffahrt-ab-potsdam/
CATEGORIES:Tagesfahrten
END:VEVENT
END:VCALENDAR