BEGIN:VCALENDAR
VERSION:2.0
PRODID:-//reiselust.pur - ECPv6.15.15//NONSGML v1.0//EN
CALSCALE:GREGORIAN
METHOD:PUBLISH
X-ORIGINAL-URL:https://reiselustpur.com
X-WR-CALDESC:Veranstaltungen für reiselust.pur
REFRESH-INTERVAL;VALUE=DURATION:PT1H
X-Robots-Tag:noindex
X-PUBLISHED-TTL:PT1H
BEGIN:VTIMEZONE
TZID:Europe/Berlin
BEGIN:DAYLIGHT
TZOFFSETFROM:+0100
TZOFFSETTO:+0200
TZNAME:CEST
DTSTART:20250330T010000
END:DAYLIGHT
BEGIN:STANDARD
TZOFFSETFROM:+0200
TZOFFSETTO:+0100
TZNAME:CET
DTSTART:20251026T010000
END:STANDARD
BEGIN:DAYLIGHT
TZOFFSETFROM:+0100
TZOFFSETTO:+0200
TZNAME:CEST
DTSTART:20260329T010000
END:DAYLIGHT
BEGIN:STANDARD
TZOFFSETFROM:+0200
TZOFFSETTO:+0100
TZNAME:CET
DTSTART:20261025T010000
END:STANDARD
BEGIN:DAYLIGHT
TZOFFSETFROM:+0100
TZOFFSETTO:+0200
TZNAME:CEST
DTSTART:20270328T010000
END:DAYLIGHT
BEGIN:STANDARD
TZOFFSETFROM:+0200
TZOFFSETTO:+0100
TZNAME:CET
DTSTART:20271031T010000
END:STANDARD
END:VTIMEZONE
BEGIN:VEVENT
DTSTART;VALUE=DATE:20260804
DTEND;VALUE=DATE:20260805
DTSTAMP:20260424T234312
CREATED:20260326T123847Z
LAST-MODIFIED:20260326T123847Z
UID:752-1785801600-1785887999@reiselustpur.com
SUMMARY:TF34-2026 Malerisches Kohrener Land – Eine erlebnisreiche Landpartie
DESCRIPTION:Kommen Sie gern mit\, zu einem wunderbaren „Fleckchen“ Erde in unserem schönen Sachsen. Das Kohrener Land ist eine idyllische Kulturlandschaft südlich von Leipzig im Herzen Sachsens. Rund um Kohren-Sahlis und Frohburg erstreckt sich eine sanft hügelige Region mit Wiesen\, Wäldern und kleinen Tälern. Geprägt von jahrhundertealter Geschichte begeistert das Gebiet mit Sehenswürdigkeiten wie der Burg Gnandstein\, einer der am besten erhaltenen Burgen Sachsens. Traditionelles Handwerk – insbesondere die Töpferei verleihen der Region ihren besonderen Charakter. Kohren-Sahlis gilt als Herz des Kohrener Landes und bezaubert mit seinem historischen Stadtkern\, liebevoll restaurierten Fachwerkhäusern und einer lebendigen Töpfertradition. All dies sehen Sie heute ganz entspannt nach dem leckeren Mittagessen bei einer moderierten Rundfahrt aus der kleinen Wegebahn\, welche uns durch die Gegend fahren wird. Wir werden die Landschaft genießen und der ältesten Töpferei in Kohren einen kleinen Besuch abstatten. Im Anschluss besuchen wir noch das Mühlenmuseum am Lindenvorwerk\, welches sich unmittelbar neben unserer Gaststätte befindet. Hier erleben Sie die Vorführung der Wassermühle und erfahren viel Wissenswertes aus der alten Zeit. Auf vorherige Bestellung (ab 30 Personen) wird der Backofen im Wohnhaus des Müllers angeheizt und Sie können nach der Führung in der Gaststätte ein frisch gebackenes Mühlenbrot käuflich erleben. Kaffee und Kuchen runden auch bei diesem schönen Ausflug unseren Tag ab. \nLeistungen: \n\nBusfahrt\nMittagessen\nFahrt mit der Wegebahn\nBesuch Töpferei\nBesuch und kleine Führung Mühlenmuseum\nKaffeetrinken\nReisebegleitung\n\nKosten pro Person: \n\n96\,00 Euro
URL:https://reiselustpur.com/event/tf34-2026-malerisches-kohrener-land-eine-erlebnisreiche-landpartie/
CATEGORIES:Tagesfahrten
END:VEVENT
END:VCALENDAR