BEGIN:VCALENDAR
VERSION:2.0
PRODID:-//reiselust.pur - ECPv6.15.15//NONSGML v1.0//EN
CALSCALE:GREGORIAN
METHOD:PUBLISH
X-ORIGINAL-URL:https://reiselustpur.com
X-WR-CALDESC:Veranstaltungen für reiselust.pur
REFRESH-INTERVAL;VALUE=DURATION:PT1H
X-Robots-Tag:noindex
X-PUBLISHED-TTL:PT1H
BEGIN:VTIMEZONE
TZID:Europe/Berlin
BEGIN:DAYLIGHT
TZOFFSETFROM:+0100
TZOFFSETTO:+0200
TZNAME:CEST
DTSTART:20250330T010000
END:DAYLIGHT
BEGIN:STANDARD
TZOFFSETFROM:+0200
TZOFFSETTO:+0100
TZNAME:CET
DTSTART:20251026T010000
END:STANDARD
BEGIN:DAYLIGHT
TZOFFSETFROM:+0100
TZOFFSETTO:+0200
TZNAME:CEST
DTSTART:20260329T010000
END:DAYLIGHT
BEGIN:STANDARD
TZOFFSETFROM:+0200
TZOFFSETTO:+0100
TZNAME:CET
DTSTART:20261025T010000
END:STANDARD
BEGIN:DAYLIGHT
TZOFFSETFROM:+0100
TZOFFSETTO:+0200
TZNAME:CEST
DTSTART:20270328T010000
END:DAYLIGHT
BEGIN:STANDARD
TZOFFSETFROM:+0200
TZOFFSETTO:+0100
TZNAME:CET
DTSTART:20271031T010000
END:STANDARD
END:VTIMEZONE
BEGIN:VEVENT
DTSTART;VALUE=DATE:20260825
DTEND;VALUE=DATE:20260826
DTSTAMP:20260425T135133
CREATED:20260326T124639Z
LAST-MODIFIED:20260326T124639Z
UID:760-1787616000-1787702399@reiselustpur.com
SUMMARY:TF38-2026 Herrliche Ausblicke vom Pöhlberg - die St. Annen Kirche und die St. Marien Bergkirche von Annaberg
DESCRIPTION:Unsere heutige Ausflugsfahrt führt zunächst hinauf auf den Pöhlberg\, den „Hausberg“ von Annaberg-Buchholz. Mit einer Höhe von rund 832 Metern bietet er einen der schönsten Aussichtspunkte der Region und beeindruckt bei klarer Sicht mit einem weiten Blick über das Erzgebirge bis hin ins Böhmische. Von hier aus genießen Sie einen herrlichen Panoramablick über das Erzgebirge. Beim gemeinsamen Mittagessen können Sie die beeindruckende Aussicht in entspannter Atmosphäre auf sich wirken lassen. Anschließend geht es in die historische Altstadt von Annaberg-Buchholz zur Besichtigung der imposanten St. Annenkirche. Während einer fachkundigen Führung erfahren Sie Interessantes zur Geschichte und Architektur dieser bedeutenden spätgotischen Hallenkirche. Das war aber noch nicht alles. Beim Orgelanspiel hören Sie wie der eindrucksvolle Klang des Instruments den Kirchenraum erfüllt. Ein wunderbares Erlebnis. Weiter geht es in die Bergkirche St. Marien zur nächsten kleinen Führung. Die Bergkirche St. Marien wurde in den Jahren 1502/03 von Bergleuten direkt am Marktplatz für ihresgleichen errichtet. Finanziert wurde der Bau durch sogenannte „Büchsenpfennige“\, kleine Beiträge\, die die Knappen wöchentlich von ihrem Lohn abgaben. Bereits früh am Morgen\, um vier Uhr\, rief die Glocke zur Messe – denn kein Bergmann fuhr ohne Gottes Schutz und Segen in die Grube ein. Auch nach der Reformation blieb die Kirche als einzige bergmännische Sonderkirche Sachsens erhalten und ist damit ein eindrucksvolles Zeugnis dieser besonderen Tradition. Besonderes Augenmerk gilt der bergmännischen Krippe mit den 35 ca. 1\,50m hohen kunstvoll geschnitzten Holzfiguren\, die eindrucksvoll von der Handwerkskunst und Frömmigkeit vergangener Jahrhunderte zeugen und die Kirche dadurch weit über die Grenzen Sachsens hinaus bekannt machte. Die Vorlage für die Figuren waren einst einheimische Bürger aus Annaberg. Schnitzkunst der Extraklasse wird Sie verzaubern. Den gelungenen Abschluss dieses schönen Tages im Erzgebirge bildet ein gemütliches Kaffeetrinken im traditionsreichen Café Roscher\, wo Sie bei Kaffee und Kuchen die Eindrücke des Tages entspannt ausklingen lassen können. \nLeistungen: \n\nBusfahrt\nMittagessen\nEintritt und Führung St.Annenkirche\nOrgelanspiel\nFührung St. Marienkirche\nKaffeetrinken\nReisebegleitung\n\nKosten pro Person: \n\n89\,00 Euro
URL:https://reiselustpur.com/event/tf38-2026-herrliche-ausblicke-vom-poehlberg-die-st-annen-kirche-und-die-st-marien-bergkirche-von-annaberg/
CATEGORIES:Tagesfahrten
END:VEVENT
END:VCALENDAR