BEGIN:VCALENDAR
VERSION:2.0
PRODID:-//reiselust.pur - ECPv6.15.15//NONSGML v1.0//EN
CALSCALE:GREGORIAN
METHOD:PUBLISH
X-WR-CALNAME:reiselust.pur
X-ORIGINAL-URL:https://reiselustpur.com
X-WR-CALDESC:Veranstaltungen für reiselust.pur
REFRESH-INTERVAL;VALUE=DURATION:PT1H
X-Robots-Tag:noindex
X-PUBLISHED-TTL:PT1H
BEGIN:VTIMEZONE
TZID:Europe/Berlin
BEGIN:DAYLIGHT
TZOFFSETFROM:+0100
TZOFFSETTO:+0200
TZNAME:CEST
DTSTART:20250330T010000
END:DAYLIGHT
BEGIN:STANDARD
TZOFFSETFROM:+0200
TZOFFSETTO:+0100
TZNAME:CET
DTSTART:20251026T010000
END:STANDARD
BEGIN:DAYLIGHT
TZOFFSETFROM:+0100
TZOFFSETTO:+0200
TZNAME:CEST
DTSTART:20260329T010000
END:DAYLIGHT
BEGIN:STANDARD
TZOFFSETFROM:+0200
TZOFFSETTO:+0100
TZNAME:CET
DTSTART:20261025T010000
END:STANDARD
BEGIN:DAYLIGHT
TZOFFSETFROM:+0100
TZOFFSETTO:+0200
TZNAME:CEST
DTSTART:20270328T010000
END:DAYLIGHT
BEGIN:STANDARD
TZOFFSETFROM:+0200
TZOFFSETTO:+0100
TZNAME:CET
DTSTART:20271031T010000
END:STANDARD
END:VTIMEZONE
BEGIN:VEVENT
DTSTART;VALUE=DATE:20260903
DTEND;VALUE=DATE:20260904
DTSTAMP:20260426T020828
CREATED:20260326T124825Z
LAST-MODIFIED:20260326T124825Z
UID:762-1788393600-1788479999@reiselustpur.com
SUMMARY:TF39-2026 Mit dem Kremser durch die blühende Heide
DESCRIPTION:Ein erlebnisreicher Tagesausflug führt in die reizvolle Heidelandschaft rund um Hohenleipisch in der Niederlausitz. Besonders jetzt zur Blütezeit zeigt sich die Region von ihrer schönsten Seite. Weite Heideflächen leuchten in kräftigem Violett und verströmen eine ganz besondere\, fast meditative Atmosphäre. Bevor es aber losgeht\, kehren wir ein. Im Gasthaus „Zum goldenen Löwen“ warten schon unsere Gastgeber und freuen sich uns ein leckeres Mittagessen zu servieren. Und danach geht’s los. Bei einer gemütlichen Kremserfahrt geht es entspannt durch die blühende Landschaft. Vorbei an duftenden Heidefeldern\, lichten Kiefernwäldern und kleinen Lichtungen erleben Sie die Natur aus nächster Nähe\, während erfahrene Kutscher Wissenswertes über die Region und ihre Besonderheiten vermitteln. Unterwegs laden kurze Stopps dazu ein\, die Ruhe der Natur zu genießen\, Fotos zu machen oder einfach die klare Luft der Niederlausitz auf sich wirken zu lassen. Die Kombination aus ursprünglicher Landschaft\, regionaler Tradition und entschleunigtem Reiseerlebnis macht diesen Ausflug zu einem unvergesslichen Naturerlebnis. Im Anschluss noch Kaffee und Kuchen. Was will man mehr. Begleiten Sie uns gern bei diesem schönen Ausflug in die Niederlausitzer Heidelandschaft. \nLeistungen: \n\nBusfahrt\nMittagessen\nKremserfahrt\nKaffeetrinken\nReisebegleitung\n\nKosten pro Person: \n\n89\,00 Euro
URL:https://reiselustpur.com/event/tf39-2026-mit-dem-kremser-durch-die-bluehende-heide/
CATEGORIES:Tagesfahrten
END:VEVENT
END:VCALENDAR