BEGIN:VCALENDAR
VERSION:2.0
PRODID:-//reiselust.pur - ECPv6.15.15//NONSGML v1.0//EN
CALSCALE:GREGORIAN
METHOD:PUBLISH
X-WR-CALNAME:reiselust.pur
X-ORIGINAL-URL:https://reiselustpur.com
X-WR-CALDESC:Veranstaltungen für reiselust.pur
REFRESH-INTERVAL;VALUE=DURATION:PT1H
X-Robots-Tag:noindex
X-PUBLISHED-TTL:PT1H
BEGIN:VTIMEZONE
TZID:Europe/Berlin
BEGIN:DAYLIGHT
TZOFFSETFROM:+0100
TZOFFSETTO:+0200
TZNAME:CEST
DTSTART:20250330T010000
END:DAYLIGHT
BEGIN:STANDARD
TZOFFSETFROM:+0200
TZOFFSETTO:+0100
TZNAME:CET
DTSTART:20251026T010000
END:STANDARD
BEGIN:DAYLIGHT
TZOFFSETFROM:+0100
TZOFFSETTO:+0200
TZNAME:CEST
DTSTART:20260329T010000
END:DAYLIGHT
BEGIN:STANDARD
TZOFFSETFROM:+0200
TZOFFSETTO:+0100
TZNAME:CET
DTSTART:20261025T010000
END:STANDARD
BEGIN:DAYLIGHT
TZOFFSETFROM:+0100
TZOFFSETTO:+0200
TZNAME:CEST
DTSTART:20270328T010000
END:DAYLIGHT
BEGIN:STANDARD
TZOFFSETFROM:+0200
TZOFFSETTO:+0100
TZNAME:CET
DTSTART:20271031T010000
END:STANDARD
END:VTIMEZONE
BEGIN:VEVENT
DTSTART;VALUE=DATE:20260910
DTEND;VALUE=DATE:20260911
DTSTAMP:20260426T053218
CREATED:20260326T125137Z
LAST-MODIFIED:20260326T125137Z
UID:764-1788998400-1789084799@reiselustpur.com
SUMMARY:TF40-2026 Bezauberndes Muldental – Grimma\, Kloster Nimbschen und Schiffsmühle Höfgen
DESCRIPTION:Sanft öffnet sich vor uns eine Landschaft voller Ruhe und natürlicher Schönheit\, die zum Durchatmen und Verweilen einlädt. Wie eine lebendige Ader windet sich die Mulde durch ihr malerisches Tal – vorbei an sanften Hügeln\, dichten Wäldern und sattgrünen Wiesen. Bereits bei Ihrer Ankunft lässt sich der Alltag angenehm hinter sich\, und eine wohltuende Ruhe kehrt ein. Der Tag beginnt genussvoll mit einem gemeinsamen Mittagessen in der gemütlichen Klosterstube in Nimbschen. Das ehemalige Kloster Nimbschen\, einst Wirkungsstätte von Katharina von Bora\, verleiht diesem Ort mit seiner bewegten Geschichte eine ganz besondere Atmosphäre. Gut gestärkt tauchen wir anschließend in die Geschichte und den Charme der „Perle des Muldentals“ ein: Bei einer Stadtrundfahrt entdecken Sie die schönsten Seiten Grimmas und erfahren Wissenswertes aus Vergangenheit und Gegenwart. Der liebevoll erhaltene\, denkmalgeschützte Altstadtkern\, das traditionsreiche Gymnasium St. Augustin sowie die einzigartigen hängenden Gärten entlang der historischen Stadtmauer werden Sie begeistern. Im Anschluss heißt uns die freundliche Crew der Muldenschifffahrt willkommen. Während wir gemächlich über das Wasser gleiten\, ziehen idyllische Landschaften an uns vorbei: weitläufige Wiesen\, markante Porphyr Felsen und die ruhige Schönheit der Natur. Unsere Reise endet im kleinen\, verträumten Ort Höfgen. Direkt am Ufer der Mulde lassen wir den Tag bei duftendem Kaffee und köstlichem Kuchen an der historischen Schiffsmühle Höfgen ausklingen\, einem liebevoll erhaltenen technischen Denkmal\, das spannende Einblicke in die traditionelle Mühlentechnik bietet – ein perfekter Abschluss eines rundum genussvollen Erlebnisses. \nLeistungen: \n\nBusfahrt\nMittagessen\nStadtrundfahrt in Grimma mit örtlichem Gästeführer\nSchifffahrt auf der Mulde\nKaffeetrinken\nReisebegleitung\n\nKosten pro Person: \n\n89\,00 Euro
URL:https://reiselustpur.com/event/tf40-2026-bezauberndes-muldental-grimma-kloster-nimbschen-und-schiffsmuehle-hoefgen/
CATEGORIES:Tagesfahrten
END:VEVENT
END:VCALENDAR